BEGIN:VCALENDAR
VERSION:2.0
PRODID:-//Iffy Books  |  404 S. 20th St., PHL - ECPv6.15.20//NONSGML v1.0//EN
CALSCALE:GREGORIAN
METHOD:PUBLISH
X-WR-CALNAME:Iffy Books  |  404 S. 20th St., PHL
X-ORIGINAL-URL:https://iffybooks.net
X-WR-CALDESC:Events for Iffy Books  |  404 S. 20th St., PHL
REFRESH-INTERVAL;VALUE=DURATION:PT1H
X-Robots-Tag:noindex
X-PUBLISHED-TTL:PT1H
BEGIN:VTIMEZONE
TZID:America/New_York
BEGIN:DAYLIGHT
TZOFFSETFROM:-0500
TZOFFSETTO:-0400
TZNAME:EDT
DTSTART:20210314T070000
END:DAYLIGHT
BEGIN:STANDARD
TZOFFSETFROM:-0400
TZOFFSETTO:-0500
TZNAME:EST
DTSTART:20211107T060000
END:STANDARD
BEGIN:DAYLIGHT
TZOFFSETFROM:-0500
TZOFFSETTO:-0400
TZNAME:EDT
DTSTART:20220313T070000
END:DAYLIGHT
BEGIN:STANDARD
TZOFFSETFROM:-0400
TZOFFSETTO:-0500
TZNAME:EST
DTSTART:20221106T060000
END:STANDARD
BEGIN:DAYLIGHT
TZOFFSETFROM:-0500
TZOFFSETTO:-0400
TZNAME:EDT
DTSTART:20230312T070000
END:DAYLIGHT
BEGIN:STANDARD
TZOFFSETFROM:-0400
TZOFFSETTO:-0500
TZNAME:EST
DTSTART:20231105T060000
END:STANDARD
END:VTIMEZONE
BEGIN:VEVENT
DTSTART;TZID=America/New_York:20220929T180000
DTEND;TZID=America/New_York:20220929T193000
DTSTAMP:20260419T203456
CREATED:20220919T194003Z
LAST-MODIFIED:20220922T023355Z
UID:10000181-1664474400-1664479800@iffybooks.net
SUMMARY:Security Culture for Activists Workshop at FDR Meadows
DESCRIPTION:At this workshop we’ll discuss strategies for maintaining privacy when working on activist projects. We’ll focus on ways location data from your phone can be used against you\, and how to keep you and your friends safe. \n➡️ This workshop is part of Meadowfest\, a series of events at the FDR Meadows from September 24th to October 2nd. Click here to learn more. \n  \n 
URL:https://iffybooks.net/event/security-culture-workshop/
LOCATION:FDR Meadows Picnic Grove\, 1954 Pattison Ave. at PDF Park\, Philadelphia\, PA\, United States
ATTACH;FMTTYPE=image/png:https://iffybooks.net/wp-content/uploads/2022/09/Iffy_Books_Security_Culture_for_Activists_2022-09.png
ORGANIZER;CN="Iffy Books":MAILTO:iffybooks@iffybooks.net
END:VEVENT
END:VCALENDAR