BEGIN:VCALENDAR
VERSION:2.0
PRODID:-//Iffy Books  |  404 S. 20th St., PHL - ECPv6.15.20//NONSGML v1.0//EN
CALSCALE:GREGORIAN
METHOD:PUBLISH
X-WR-CALNAME:Iffy Books  |  404 S. 20th St., PHL
X-ORIGINAL-URL:https://iffybooks.net
X-WR-CALDESC:Events for Iffy Books  |  404 S. 20th St., PHL
REFRESH-INTERVAL;VALUE=DURATION:PT1H
X-Robots-Tag:noindex
X-PUBLISHED-TTL:PT1H
BEGIN:VTIMEZONE
TZID:America/New_York
BEGIN:DAYLIGHT
TZOFFSETFROM:-0500
TZOFFSETTO:-0400
TZNAME:EDT
DTSTART:20250309T070000
END:DAYLIGHT
BEGIN:STANDARD
TZOFFSETFROM:-0400
TZOFFSETTO:-0500
TZNAME:EST
DTSTART:20251102T060000
END:STANDARD
BEGIN:DAYLIGHT
TZOFFSETFROM:-0500
TZOFFSETTO:-0400
TZNAME:EDT
DTSTART:20260308T070000
END:DAYLIGHT
BEGIN:STANDARD
TZOFFSETFROM:-0400
TZOFFSETTO:-0500
TZNAME:EST
DTSTART:20261101T060000
END:STANDARD
BEGIN:DAYLIGHT
TZOFFSETFROM:-0500
TZOFFSETTO:-0400
TZNAME:EDT
DTSTART:20270314T070000
END:DAYLIGHT
BEGIN:STANDARD
TZOFFSETFROM:-0400
TZOFFSETTO:-0500
TZNAME:EST
DTSTART:20271107T060000
END:STANDARD
END:VTIMEZONE
BEGIN:VEVENT
DTSTART;TZID=America/New_York:20260528T183000
DTEND;TZID=America/New_York:20260528T203000
DTSTAMP:20260425T095935
CREATED:20260424T175520Z
LAST-MODIFIED:20260424T175708Z
UID:10004248-1779993000-1780000200@iffybooks.net
SUMMARY:🏴 Anarchy Summer Reading Group
DESCRIPTION:We’re meeting every two weeks to discuss classics of anarchist literature\, starting with Anarchism and Other Essays by Emma Goldman and The Conquest of Bread by Peter Kropotkin. \nStay tuned for more details!
URL:https://iffybooks.net/event/anarchy-summer-reading-group/2026-05-28/
LOCATION:Iffy Books\, 404 S. 20th St.\, Philadelphia\, 19146\, United States
ATTACH;FMTTYPE=image/png:https://iffybooks.net/wp-content/uploads/2026/04/black-flag.png
ORGANIZER;CN="Iffy Books":MAILTO:iffybooks@iffybooks.net
END:VEVENT
BEGIN:VEVENT
DTSTART;TZID=America/New_York:20260625T183000
DTEND;TZID=America/New_York:20260625T203000
DTSTAMP:20260425T095935
CREATED:20260424T175520Z
LAST-MODIFIED:20260424T175708Z
UID:10004249-1782412200-1782419400@iffybooks.net
SUMMARY:🏴 Anarchy Summer Reading Group
DESCRIPTION:We’re meeting every two weeks to discuss classics of anarchist literature\, starting with Anarchism and Other Essays by Emma Goldman and The Conquest of Bread by Peter Kropotkin. \nStay tuned for more details!
URL:https://iffybooks.net/event/anarchy-summer-reading-group/2026-06-25/
LOCATION:Iffy Books\, 404 S. 20th St.\, Philadelphia\, 19146\, United States
ATTACH;FMTTYPE=image/png:https://iffybooks.net/wp-content/uploads/2026/04/black-flag.png
ORGANIZER;CN="Iffy Books":MAILTO:iffybooks@iffybooks.net
END:VEVENT
BEGIN:VEVENT
DTSTART;TZID=America/New_York:20260723T183000
DTEND;TZID=America/New_York:20260723T203000
DTSTAMP:20260425T095935
CREATED:20260424T175520Z
LAST-MODIFIED:20260424T175708Z
UID:10004250-1784831400-1784838600@iffybooks.net
SUMMARY:🏴 Anarchy Summer Reading Group
DESCRIPTION:We’re meeting every two weeks to discuss classics of anarchist literature\, starting with Anarchism and Other Essays by Emma Goldman and The Conquest of Bread by Peter Kropotkin. \nStay tuned for more details!
URL:https://iffybooks.net/event/anarchy-summer-reading-group/2026-07-23/
LOCATION:Iffy Books\, 404 S. 20th St.\, Philadelphia\, 19146\, United States
ATTACH;FMTTYPE=image/png:https://iffybooks.net/wp-content/uploads/2026/04/black-flag.png
ORGANIZER;CN="Iffy Books":MAILTO:iffybooks@iffybooks.net
END:VEVENT
BEGIN:VEVENT
DTSTART;TZID=America/New_York:20260827T183000
DTEND;TZID=America/New_York:20260827T203000
DTSTAMP:20260425T095935
CREATED:20260424T175520Z
LAST-MODIFIED:20260424T175708Z
UID:10004251-1787855400-1787862600@iffybooks.net
SUMMARY:🏴 Anarchy Summer Reading Group
DESCRIPTION:We’re meeting every two weeks to discuss classics of anarchist literature\, starting with Anarchism and Other Essays by Emma Goldman and The Conquest of Bread by Peter Kropotkin. \nStay tuned for more details!
URL:https://iffybooks.net/event/anarchy-summer-reading-group/2026-08-27/
LOCATION:Iffy Books\, 404 S. 20th St.\, Philadelphia\, 19146\, United States
ATTACH;FMTTYPE=image/png:https://iffybooks.net/wp-content/uploads/2026/04/black-flag.png
ORGANIZER;CN="Iffy Books":MAILTO:iffybooks@iffybooks.net
END:VEVENT
END:VCALENDAR