BEGIN:VCALENDAR
VERSION:2.0
PRODID:-//Iffy Books  |  404 S. 20th St., PHL - ECPv6.15.20//NONSGML v1.0//EN
CALSCALE:GREGORIAN
METHOD:PUBLISH
X-ORIGINAL-URL:https://iffybooks.net
X-WR-CALDESC:Events for Iffy Books  |  404 S. 20th St., PHL
REFRESH-INTERVAL;VALUE=DURATION:PT1H
X-Robots-Tag:noindex
X-PUBLISHED-TTL:PT1H
BEGIN:VTIMEZONE
TZID:America/New_York
BEGIN:DAYLIGHT
TZOFFSETFROM:-0500
TZOFFSETTO:-0400
TZNAME:EDT
DTSTART:20250309T070000
END:DAYLIGHT
BEGIN:STANDARD
TZOFFSETFROM:-0400
TZOFFSETTO:-0500
TZNAME:EST
DTSTART:20251102T060000
END:STANDARD
BEGIN:DAYLIGHT
TZOFFSETFROM:-0500
TZOFFSETTO:-0400
TZNAME:EDT
DTSTART:20260308T070000
END:DAYLIGHT
BEGIN:STANDARD
TZOFFSETFROM:-0400
TZOFFSETTO:-0500
TZNAME:EST
DTSTART:20261101T060000
END:STANDARD
BEGIN:DAYLIGHT
TZOFFSETFROM:-0500
TZOFFSETTO:-0400
TZNAME:EDT
DTSTART:20270314T070000
END:DAYLIGHT
BEGIN:STANDARD
TZOFFSETFROM:-0400
TZOFFSETTO:-0500
TZNAME:EST
DTSTART:20271107T060000
END:STANDARD
END:VTIMEZONE
BEGIN:VEVENT
DTSTART;TZID=America/New_York:20260325T190000
DTEND;TZID=America/New_York:20260325T203000
DTSTAMP:20260421T193904
CREATED:20260116T024846Z
LAST-MODIFIED:20260321T191334Z
UID:10002526-1774465200-1774470600@iffybooks.net
SUMMARY:🪐 Speculative Futures Reading Group: 'I Who Have Never Known Men' by Jacqueline Harpman
DESCRIPTION:The Speculative Futures Reading Group meets on the last Wednesday of every month at 7 p.m.! \nDeep underground\, thirty-nine women live imprisoned in a cage. Watched over by guards\, the women have no memory of how they got there\, no notion of time\, and only a vague recollection of their lives before. \nAs the burn of electric light merges day into night and numberless years pass\, a young girl—the fortieth prisoner—sits alone and outcast in the corner. Soon she will show herself to be the key to the others’ escape and survival in the strange world that awaits them above ground. \nJacqueline Harpman was born in Etterbeek\, Belgium\, in 1929\, and fled to Casablanca with her family during WWII. Informed by her background as a psychoanalyst and her youth in exile\, I Who Have Never Known Men is a haunting\, heartbreaking post-apocalyptic novel of female friendship and intimacy\, and the lengths people will go to maintain their humanity in the face of devastation. Back in print for the first time since 1997\, Harpman’s modern classic is an essential addition to the growing canon of feminist speculative literature.
URL:https://iffybooks.net/event/speculative-futures-mar-25/
LOCATION:Iffy Books\, 404 S. 20th St.\, Philadelphia\, 19146\, United States
ATTACH;FMTTYPE=image/jpeg:https://iffybooks.net/wp-content/uploads/2026/01/I_Who_Have_Never_Known_Men.jpg
END:VEVENT
END:VCALENDAR