BEGIN:VCALENDAR
VERSION:2.0
PRODID:-//Iffy Books  |  404 S. 20th St., PHL - ECPv6.15.20//NONSGML v1.0//EN
CALSCALE:GREGORIAN
METHOD:PUBLISH
X-ORIGINAL-URL:https://iffybooks.net
X-WR-CALDESC:Events for Iffy Books  |  404 S. 20th St., PHL
REFRESH-INTERVAL;VALUE=DURATION:PT1H
X-Robots-Tag:noindex
X-PUBLISHED-TTL:PT1H
BEGIN:VTIMEZONE
TZID:America/New_York
BEGIN:DAYLIGHT
TZOFFSETFROM:-0500
TZOFFSETTO:-0400
TZNAME:EDT
DTSTART:20250309T070000
END:DAYLIGHT
BEGIN:STANDARD
TZOFFSETFROM:-0400
TZOFFSETTO:-0500
TZNAME:EST
DTSTART:20251102T060000
END:STANDARD
BEGIN:DAYLIGHT
TZOFFSETFROM:-0500
TZOFFSETTO:-0400
TZNAME:EDT
DTSTART:20260308T070000
END:DAYLIGHT
BEGIN:STANDARD
TZOFFSETFROM:-0400
TZOFFSETTO:-0500
TZNAME:EST
DTSTART:20261101T060000
END:STANDARD
BEGIN:DAYLIGHT
TZOFFSETFROM:-0500
TZOFFSETTO:-0400
TZNAME:EDT
DTSTART:20270314T070000
END:DAYLIGHT
BEGIN:STANDARD
TZOFFSETFROM:-0400
TZOFFSETTO:-0500
TZNAME:EST
DTSTART:20271107T060000
END:STANDARD
END:VTIMEZONE
BEGIN:VEVENT
DTSTART;TZID=America/New_York:20260228T103000
DTEND;TZID=America/New_York:20260228T123000
DTSTAMP:20260421T211900
CREATED:20260201T181746Z
LAST-MODIFIED:20260228T154617Z
UID:10004036-1772274600-1772281800@iffybooks.net
SUMMARY:👾 HDMI Video Throwie Workshop
DESCRIPTION:In this workshop you’ll use a Pi Pico microcontroller to send low-res (320×240) digital video to an HDMI display. Despite its limitations\, the cool thing about this device is that it’s inexpensive enough that you can plug it in somewhere (perhaps a wall of TVs at an electronics store) and leave it behind for prank/art/propaganda purposes. The term “throwie” usually refers to a battery-powered device such as an LED light or radio transmitter with magnets on the back\, tossed onto a high metal surface where it can’t easily be reached. \nYour Pi Pico will generate video in the DVI-D format rather than the newer HDMI standard. But because HDMI is backwards compatible with DVI-D\, your device should work with any HDMI monitor or TV. \nHere’s what’s in the kit:\n\nPi Pico board w/ microUSB port\nPico DVI video sock\ninsulated wire (4″)\nheat shrink tubing (3″)\n\nHere’s what else you’ll need:\n\nHDMI cable\nmicroUSB cable with data connection\ncomputer (macOS/Linux/Windows)\nsoldering iron\nlead-free solder\nflux paste\nheader pins (optional)\nwire stripping tool (optional)\n\n➡️ Instructions \nRegister\nRegistration for this event is now closed. We'll offer it again soon!
URL:https://iffybooks.net/event/hdmi-video-throwie-workshop-feb-28/
LOCATION:Iffy Books\, 404 S. 20th St.\, Philadelphia\, 19146\, United States
ATTACH;FMTTYPE=image/png:https://iffybooks.net/wp-content/uploads/2026/01/HDMI_Video_Throwie_Iffy_Books.png
ORGANIZER;CN="Iffy Books":MAILTO:iffybooks@iffybooks.net
END:VEVENT
END:VCALENDAR