BEGIN:VCALENDAR
VERSION:2.0
PRODID:-//Iffy Books  |  404 S. 20th St., PHL - ECPv6.15.20//NONSGML v1.0//EN
CALSCALE:GREGORIAN
METHOD:PUBLISH
X-ORIGINAL-URL:https://iffybooks.net
X-WR-CALDESC:Events for Iffy Books  |  404 S. 20th St., PHL
REFRESH-INTERVAL;VALUE=DURATION:PT1H
X-Robots-Tag:noindex
X-PUBLISHED-TTL:PT1H
BEGIN:VTIMEZONE
TZID:America/New_York
BEGIN:DAYLIGHT
TZOFFSETFROM:-0500
TZOFFSETTO:-0400
TZNAME:EDT
DTSTART:20250309T070000
END:DAYLIGHT
BEGIN:STANDARD
TZOFFSETFROM:-0400
TZOFFSETTO:-0500
TZNAME:EST
DTSTART:20251102T060000
END:STANDARD
BEGIN:DAYLIGHT
TZOFFSETFROM:-0500
TZOFFSETTO:-0400
TZNAME:EDT
DTSTART:20260308T070000
END:DAYLIGHT
BEGIN:STANDARD
TZOFFSETFROM:-0400
TZOFFSETTO:-0500
TZNAME:EST
DTSTART:20261101T060000
END:STANDARD
BEGIN:DAYLIGHT
TZOFFSETFROM:-0500
TZOFFSETTO:-0400
TZNAME:EDT
DTSTART:20270314T070000
END:DAYLIGHT
BEGIN:STANDARD
TZOFFSETFROM:-0400
TZOFFSETTO:-0500
TZNAME:EST
DTSTART:20271107T060000
END:STANDARD
END:VTIMEZONE
BEGIN:VEVENT
DTSTART;TZID=America/New_York:20260131T103000
DTEND;TZID=America/New_York:20260131T123000
DTSTAMP:20260422T003726
CREATED:20260123T190057Z
LAST-MODIFIED:20260130T214620Z
UID:10003961-1769855400-1769862600@iffybooks.net
SUMMARY:👾 HDMI Video Throwie Workshop
DESCRIPTION:Solder DVI sock to Pi Pico board (see photo).\n\n\n\nConnect “5” pin on DVI sock to “VSYS” pin on Pi Pico and solder in place.\n\n\n\nFollow the instructions at the following URL to load CircuitPython firmware\, libraries\, and code.py file onto your device. You’ll need a microUSB cable with a data connection. https://learn.adafruit.com/adafruit-dvi-sock-for-pico\n\n\n\nConnect your HDMI throwie to a TV or monitor and test it out!\n\n\n\n(Optinal) Trim the heat shrink tubing to size\, slip it over the device\, and shrink it with a heat gun or hairdryer.\n\n\nRegister:\nRegistration for this event is now closed. We'll offer it again soon!
URL:https://iffybooks.net/event/hdmi-video-throwie-workshop-jan-31/
LOCATION:Iffy Books\, 404 S. 20th St.\, Philadelphia\, 19146\, United States
ATTACH;FMTTYPE=image/png:https://iffybooks.net/wp-content/uploads/2026/01/HDMI_Video_Throwie_Iffy_Books.png
ORGANIZER;CN="Iffy Books":MAILTO:iffybooks@iffybooks.net
END:VEVENT
END:VCALENDAR