BEGIN:VCALENDAR
VERSION:2.0
PRODID:-//Iffy Books  |  404 S. 20th St., PHL - ECPv6.15.20//NONSGML v1.0//EN
CALSCALE:GREGORIAN
METHOD:PUBLISH
X-WR-CALNAME:Iffy Books  |  404 S. 20th St., PHL
X-ORIGINAL-URL:https://iffybooks.net
X-WR-CALDESC:Events for Iffy Books  |  404 S. 20th St., PHL
REFRESH-INTERVAL;VALUE=DURATION:PT1H
X-Robots-Tag:noindex
X-PUBLISHED-TTL:PT1H
BEGIN:VTIMEZONE
TZID:America/New_York
BEGIN:DAYLIGHT
TZOFFSETFROM:-0500
TZOFFSETTO:-0400
TZNAME:EDT
DTSTART:20250309T070000
END:DAYLIGHT
BEGIN:STANDARD
TZOFFSETFROM:-0400
TZOFFSETTO:-0500
TZNAME:EST
DTSTART:20251102T060000
END:STANDARD
BEGIN:DAYLIGHT
TZOFFSETFROM:-0500
TZOFFSETTO:-0400
TZNAME:EDT
DTSTART:20260308T070000
END:DAYLIGHT
BEGIN:STANDARD
TZOFFSETFROM:-0400
TZOFFSETTO:-0500
TZNAME:EST
DTSTART:20261101T060000
END:STANDARD
BEGIN:DAYLIGHT
TZOFFSETFROM:-0500
TZOFFSETTO:-0400
TZNAME:EDT
DTSTART:20270314T070000
END:DAYLIGHT
BEGIN:STANDARD
TZOFFSETFROM:-0400
TZOFFSETTO:-0500
TZNAME:EST
DTSTART:20271107T060000
END:STANDARD
END:VTIMEZONE
BEGIN:VEVENT
DTSTART;TZID=America/New_York:20260121T190000
DTEND;TZID=America/New_York:20260121T203000
DTSTAMP:20260422T004258
CREATED:20251219T154859Z
LAST-MODIFIED:20251219T155234Z
UID:10002546-1769022000-1769027400@iffybooks.net
SUMMARY:👁️ Intelligence History Reading Group: 'Den of Spies' by Craig Unger
DESCRIPTION:For our January meeting we’re reading Den of Spies: Reagan\, Carter\, and the Secret History of the Treason That Stole the White House (2025) by Craig Unger. \n  \nIt was a tinderbox of an accusation. In April 1991\, the New York Times ran an op-ed alleging that Ronald Reagan’s 1980 presidential campaign had conspired with the Iranian government to delay the release of 52 American hostages until after the 1980 election. The Iranian hostage crisis was President Jimmy Carter’s largest political vulnerability\, and his lack of success freeing them ultimately sealed his fate at the ballot box. In return for keeping Americans in captivity until Reagan assumed the oath of office\, the Republicans had secretly funneled arms to Iran. Treasonous and illegal\, the operation—planned and executed by Reagan’s campaign manager Bill Casey—amounted to a shadow foreign policy run by private citizens that ensured Reagan’s victory. \nInvestigative journalist Craig Unger was one of the first reporters covering the October Surprise—initially for Esquire and then Newsweek—and while attempting to unravel the mystery\, he was fired\, sued\, and ostracized by the Washington press corps\, as a counter narrative took hold: The October Surprise was a hoax. Though Unger later recovered his name and became a bestselling author on Republican abuses of power\, the October Surprise remained his white whale\, the project he—as well as legendary investigative journalist\, the late Robert Parry—worked on late at night and between assignments. \nIn Den of Spies\, Unger reveals the definitive story of the October Surprise\, going inside his three-decade reporting odyssey\, along with Parry’s never-before-seen archives\, and sharing startling truths about what really happened in 1980. The result is a real-life political thriller filled with double agents\, CIA operatives\, slippery politicians\, KGB documents\, wealthy Republicans\, and dogged journalists. A timely and provocative history that presages our Trump-era political scandals\, Den of Spies demonstrates the stakes of allowing the politics of the moment to obscure the writing of our history.
URL:https://iffybooks.net/event/intelligence-history-group-jan-21/
LOCATION:Iffy Books\, 404 S. 20th St.\, Philadelphia\, 19146\, United States
ATTACH;FMTTYPE=image/jpeg:https://iffybooks.net/wp-content/uploads/2025/12/Den_of_Spies.jpg
ORGANIZER;CN="Iffy Books":MAILTO:iffybooks@iffybooks.net
END:VEVENT
END:VCALENDAR