BEGIN:VCALENDAR
VERSION:2.0
PRODID:-//Iffy Books  |  404 S. 20th St., PHL - ECPv6.15.20//NONSGML v1.0//EN
CALSCALE:GREGORIAN
METHOD:PUBLISH
X-WR-CALNAME:Iffy Books  |  404 S. 20th St., PHL
X-ORIGINAL-URL:https://iffybooks.net
X-WR-CALDESC:Events for Iffy Books  |  404 S. 20th St., PHL
REFRESH-INTERVAL;VALUE=DURATION:PT1H
X-Robots-Tag:noindex
X-PUBLISHED-TTL:PT1H
BEGIN:VTIMEZONE
TZID:America/New_York
BEGIN:DAYLIGHT
TZOFFSETFROM:-0500
TZOFFSETTO:-0400
TZNAME:EDT
DTSTART:20250309T070000
END:DAYLIGHT
BEGIN:STANDARD
TZOFFSETFROM:-0400
TZOFFSETTO:-0500
TZNAME:EST
DTSTART:20251102T060000
END:STANDARD
BEGIN:DAYLIGHT
TZOFFSETFROM:-0500
TZOFFSETTO:-0400
TZNAME:EDT
DTSTART:20260308T070000
END:DAYLIGHT
BEGIN:STANDARD
TZOFFSETFROM:-0400
TZOFFSETTO:-0500
TZNAME:EST
DTSTART:20261101T060000
END:STANDARD
BEGIN:DAYLIGHT
TZOFFSETFROM:-0500
TZOFFSETTO:-0400
TZNAME:EDT
DTSTART:20270314T070000
END:DAYLIGHT
BEGIN:STANDARD
TZOFFSETFROM:-0400
TZOFFSETTO:-0500
TZNAME:EST
DTSTART:20271107T060000
END:STANDARD
END:VTIMEZONE
BEGIN:VEVENT
DTSTART;TZID=America/New_York:20260111T103000
DTEND;TZID=America/New_York:20260111T123000
DTSTAMP:20260422T012008
CREATED:20251027T192014Z
LAST-MODIFIED:20251027T192031Z
UID:10003604-1768127400-1768134600@iffybooks.net
SUMMARY:⏳ Pico LED Hourglass Workshop
DESCRIPTION:Learn to make a programmable game timer and dice with a Pi Pico microcontroller! First you’ll solder six LEDs\, two switches\, and a vibration motor to the board’s GPIO pins. Then you’ll install and customize the CircuitPython code that makes it work. No experience needed! \nYou’ll need to buy a kit for $8.50 to complete this project. \n• RP2040/Pi Pico board\n• wood base w/ pilot holes\n• 6 LED lights\n• vibration motor\n• push button switch\n• 4 screws w /spacers \nInstructions & starter code \nRegister\nRegistration for this event is now closed. We'll offer it again soon!
URL:https://iffybooks.net/event/pico-led-hourglass-workshop-jan-11/
LOCATION:Iffy Books\, 404 S. 20th St.\, Philadelphia\, 19146\, United States
ATTACH;FMTTYPE=image/png:https://iffybooks.net/wp-content/uploads/2025/10/Pico-LED-Hourglass.png
ORGANIZER;CN="Iffy Books":MAILTO:iffybooks@iffybooks.net
END:VEVENT
BEGIN:VEVENT
DTSTART;TZID=America/New_York:20260111T150000
DTEND;TZID=America/New_York:20260111T170000
DTSTAMP:20260422T012008
CREATED:20251207T184540Z
LAST-MODIFIED:20260110T214105Z
UID:10003768-1768143600-1768150800@iffybooks.net
SUMMARY:🧵 Anarchist Sewing Club
DESCRIPTION:Interested in learning to sew\, mend or make clothes? Already know how and wanna hang out with people while sewing? Come and join us! Sewing supplies and a sewing machine will be available for anyone needing them.\n  \nImage credit
URL:https://iffybooks.net/event/anarchist-sewing-club/2026-01-11/
LOCATION:Iffy Books\, 404 S. 20th St.\, Philadelphia\, 19146\, United States
ATTACH;FMTTYPE=image/png:https://iffybooks.net/wp-content/uploads/2025/12/Anarchist_Sewing_Club_Graphic_Iffy_Books.png
ORGANIZER;CN="Iffy Books":MAILTO:iffybooks@iffybooks.net
END:VEVENT
END:VCALENDAR