BEGIN:VCALENDAR
VERSION:2.0
PRODID:-//Iffy Books  |  404 S. 20th St., PHL - ECPv6.15.20//NONSGML v1.0//EN
CALSCALE:GREGORIAN
METHOD:PUBLISH
X-ORIGINAL-URL:https://iffybooks.net
X-WR-CALDESC:Events for Iffy Books  |  404 S. 20th St., PHL
REFRESH-INTERVAL;VALUE=DURATION:PT1H
X-Robots-Tag:noindex
X-PUBLISHED-TTL:PT1H
BEGIN:VTIMEZONE
TZID:America/New_York
BEGIN:DAYLIGHT
TZOFFSETFROM:-0500
TZOFFSETTO:-0400
TZNAME:EDT
DTSTART:20240310T070000
END:DAYLIGHT
BEGIN:STANDARD
TZOFFSETFROM:-0400
TZOFFSETTO:-0500
TZNAME:EST
DTSTART:20241103T060000
END:STANDARD
BEGIN:DAYLIGHT
TZOFFSETFROM:-0500
TZOFFSETTO:-0400
TZNAME:EDT
DTSTART:20250309T070000
END:DAYLIGHT
BEGIN:STANDARD
TZOFFSETFROM:-0400
TZOFFSETTO:-0500
TZNAME:EST
DTSTART:20251102T060000
END:STANDARD
BEGIN:DAYLIGHT
TZOFFSETFROM:-0500
TZOFFSETTO:-0400
TZNAME:EDT
DTSTART:20260308T070000
END:DAYLIGHT
BEGIN:STANDARD
TZOFFSETFROM:-0400
TZOFFSETTO:-0500
TZNAME:EST
DTSTART:20261101T060000
END:STANDARD
END:VTIMEZONE
BEGIN:VEVENT
DTSTART;TZID=America/New_York:20251218T130000
DTEND;TZID=America/New_York:20251218T150000
DTSTAMP:20260422T013623
CREATED:20251123T183755Z
LAST-MODIFIED:20251123T183808Z
UID:10003702-1766062800-1766070000@iffybooks.net
SUMMARY:🔄 Solder & Code: Pico Power Cycler
DESCRIPTION:In this workshop you’ll build a gadget that turns power on and off for a USB-powered device. Useful for rebooting solar-powered radios\, making decorations blink\, etc. No experience with soldering or programming required! \nYou’ll need to buy a kit for $11.50 to complete this project. Here’s what it contains: \n– Pi Pico board with USB-C port\n– IRFZ44N MOSFET transistor\n– 22 AWG stranded wire pair (4″)\n– USB-A port board\n– twist tie wire (3″)\n– 1″ heat shrink tubing (3″)\n– 1/12″ heat shrink tubing (0.5″) \nInstructions \nExample code \nRegister\nRegistration for this event is now closed. Sorry. \nHere's a link to future workshops in this series!
URL:https://iffybooks.net/event/pico-power-cycler-dec-18/
LOCATION:Iffy Books\, 404 S. 20th St.\, Philadelphia\, 19146\, United States
ATTACH;FMTTYPE=image/png:https://iffybooks.net/wp-content/uploads/2025/11/APC_0272.png
ORGANIZER;CN="Iffy Books":MAILTO:iffybooks@iffybooks.net
END:VEVENT
END:VCALENDAR