BEGIN:VCALENDAR
VERSION:2.0
PRODID:-//Iffy Books  |  404 S. 20th St., PHL - ECPv6.15.20//NONSGML v1.0//EN
CALSCALE:GREGORIAN
METHOD:PUBLISH
X-WR-CALNAME:Iffy Books  |  404 S. 20th St., PHL
X-ORIGINAL-URL:https://iffybooks.net
X-WR-CALDESC:Events for Iffy Books  |  404 S. 20th St., PHL
REFRESH-INTERVAL;VALUE=DURATION:PT1H
X-Robots-Tag:noindex
X-PUBLISHED-TTL:PT1H
BEGIN:VTIMEZONE
TZID:America/New_York
BEGIN:DAYLIGHT
TZOFFSETFROM:-0500
TZOFFSETTO:-0400
TZNAME:EDT
DTSTART:20240310T070000
END:DAYLIGHT
BEGIN:STANDARD
TZOFFSETFROM:-0400
TZOFFSETTO:-0500
TZNAME:EST
DTSTART:20241103T060000
END:STANDARD
BEGIN:DAYLIGHT
TZOFFSETFROM:-0500
TZOFFSETTO:-0400
TZNAME:EDT
DTSTART:20250309T070000
END:DAYLIGHT
BEGIN:STANDARD
TZOFFSETFROM:-0400
TZOFFSETTO:-0500
TZNAME:EST
DTSTART:20251102T060000
END:STANDARD
BEGIN:DAYLIGHT
TZOFFSETFROM:-0500
TZOFFSETTO:-0400
TZNAME:EDT
DTSTART:20260308T070000
END:DAYLIGHT
BEGIN:STANDARD
TZOFFSETFROM:-0400
TZOFFSETTO:-0500
TZNAME:EST
DTSTART:20261101T060000
END:STANDARD
END:VTIMEZONE
BEGIN:VEVENT
DTSTART;TZID=America/New_York:20251216T170000
DTEND;TZID=America/New_York:20251216T193000
DTSTAMP:20260422T013455
CREATED:20251215T144550Z
LAST-MODIFIED:20251215T144610Z
UID:10003642-1765904400-1765913400@iffybooks.net
SUMMARY:✏️ T̶h̶e̶ ̶W̶r̶i̶t̶i̶n̶g̶ ̶R̶o̶o̶m̶ (canceled this week!)
DESCRIPTION:We’re canceling the Writing Room this week due to the freezing weather\, and we’re taking the next couple weeks off for the holidays. We’ll be back in January! \nCome co-work with other writers in three 40-minute units of silent writing. Writers and projects of any type welcome. 10-minute breaks and accountability check-ins between units. BYO coffee\, water\, computer chargers\, notepads\, etc.
URL:https://iffybooks.net/event/the-writing-room-dec-16/
LOCATION:Iffy Books\, 404 S. 20th St.\, Philadelphia\, 19146\, United States
ATTACH;FMTTYPE=image/png:https://iffybooks.net/wp-content/uploads/2024/12/The_Writing_Room_2025.png
ORGANIZER;CN="Iffy Books":MAILTO:iffybooks@iffybooks.net
END:VEVENT
END:VCALENDAR