BEGIN:VCALENDAR
VERSION:2.0
PRODID:-//Iffy Books  |  404 S. 20th St., PHL - ECPv6.15.20//NONSGML v1.0//EN
CALSCALE:GREGORIAN
METHOD:PUBLISH
X-WR-CALNAME:Iffy Books  |  404 S. 20th St., PHL
X-ORIGINAL-URL:https://iffybooks.net
X-WR-CALDESC:Events for Iffy Books  |  404 S. 20th St., PHL
REFRESH-INTERVAL;VALUE=DURATION:PT1H
X-Robots-Tag:noindex
X-PUBLISHED-TTL:PT1H
BEGIN:VTIMEZONE
TZID:America/New_York
BEGIN:DAYLIGHT
TZOFFSETFROM:-0500
TZOFFSETTO:-0400
TZNAME:EDT
DTSTART:20240310T070000
END:DAYLIGHT
BEGIN:STANDARD
TZOFFSETFROM:-0400
TZOFFSETTO:-0500
TZNAME:EST
DTSTART:20241103T060000
END:STANDARD
BEGIN:DAYLIGHT
TZOFFSETFROM:-0500
TZOFFSETTO:-0400
TZNAME:EDT
DTSTART:20250309T070000
END:DAYLIGHT
BEGIN:STANDARD
TZOFFSETFROM:-0400
TZOFFSETTO:-0500
TZNAME:EST
DTSTART:20251102T060000
END:STANDARD
BEGIN:DAYLIGHT
TZOFFSETFROM:-0500
TZOFFSETTO:-0400
TZNAME:EDT
DTSTART:20260308T070000
END:DAYLIGHT
BEGIN:STANDARD
TZOFFSETFROM:-0400
TZOFFSETTO:-0500
TZNAME:EST
DTSTART:20261101T060000
END:STANDARD
END:VTIMEZONE
BEGIN:VEVENT
DTSTART;TZID=America/New_York:20251126T180000
DTEND;TZID=America/New_York:20251126T200000
DTSTAMP:20260421T232529
CREATED:20251027T184229Z
LAST-MODIFIED:20251203T203722Z
UID:10003618-1764180000-1764187200@iffybooks.net
SUMMARY:🚧 Make Your First Website
DESCRIPTION:Make a home page like it’s 1999! Join us at Iffy Books for a new workshop called Make Your First Website\, led by Ragman a.k.a. Richard Green. You’ll learn the basics of HTML and create a static site on the free hosting service Neocities. No experience necessary! \nPlease bring a laptop if you have one. We’re suggesting a $5–$20 donation for this workshop\, no one turned away for lack of funds. \nRegister:\nRegistration for this event is now closed. We'll offer it again soon! \nThis workshop is now full. We'll offer it again soon! \n  \n 
URL:https://iffybooks.net/event/first-website-nov-26/
LOCATION:Iffy Books\, 404 S. 20th St.\, Philadelphia\, 19146\, United States
ATTACH;FMTTYPE=image/png:https://iffybooks.net/wp-content/uploads/2025/04/Make_Your_First_Website_Flyer.png
ORGANIZER;CN="Iffy Books":MAILTO:iffybooks@iffybooks.net
END:VEVENT
BEGIN:VEVENT
DTSTART;TZID=America/New_York:20251126T190000
DTEND;TZID=America/New_York:20251126T203000
DTSTAMP:20260421T232529
CREATED:20250426T182504Z
LAST-MODIFIED:20250426T182504Z
UID:10003965-1764183600-1764189000@iffybooks.net
SUMMARY:🪐 Speculative Futures Reading Group
DESCRIPTION:The Speculative Futures Reading Group meets on the last Wednesday of every month at 7 p.m.!
URL:https://iffybooks.net/event/speculative-futures-group/2025-11-26/
LOCATION:Iffy Books\, 404 S. 20th St.\, Philadelphia\, 19146\, United States
ATTACH;FMTTYPE=image/jpeg:https://iffybooks.net/wp-content/uploads/2023/03/Black_Hole.jpg
END:VEVENT
END:VCALENDAR