BEGIN:VCALENDAR
VERSION:2.0
PRODID:-//Iffy Books  |  404 S. 20th St., PHL - ECPv6.15.20//NONSGML v1.0//EN
CALSCALE:GREGORIAN
METHOD:PUBLISH
X-WR-CALNAME:Iffy Books  |  404 S. 20th St., PHL
X-ORIGINAL-URL:https://iffybooks.net
X-WR-CALDESC:Events for Iffy Books  |  404 S. 20th St., PHL
REFRESH-INTERVAL;VALUE=DURATION:PT1H
X-Robots-Tag:noindex
X-PUBLISHED-TTL:PT1H
BEGIN:VTIMEZONE
TZID:America/New_York
BEGIN:DAYLIGHT
TZOFFSETFROM:-0500
TZOFFSETTO:-0400
TZNAME:EDT
DTSTART:20240310T070000
END:DAYLIGHT
BEGIN:STANDARD
TZOFFSETFROM:-0400
TZOFFSETTO:-0500
TZNAME:EST
DTSTART:20241103T060000
END:STANDARD
BEGIN:DAYLIGHT
TZOFFSETFROM:-0500
TZOFFSETTO:-0400
TZNAME:EDT
DTSTART:20250309T070000
END:DAYLIGHT
BEGIN:STANDARD
TZOFFSETFROM:-0400
TZOFFSETTO:-0500
TZNAME:EST
DTSTART:20251102T060000
END:STANDARD
BEGIN:DAYLIGHT
TZOFFSETFROM:-0500
TZOFFSETTO:-0400
TZNAME:EDT
DTSTART:20260308T070000
END:DAYLIGHT
BEGIN:STANDARD
TZOFFSETFROM:-0400
TZOFFSETTO:-0500
TZNAME:EST
DTSTART:20261101T060000
END:STANDARD
END:VTIMEZONE
BEGIN:VEVENT
DTSTART;TZID=America/New_York:20251123T103000
DTEND;TZID=America/New_York:20251123T113000
DTSTAMP:20260422T000744
CREATED:20251023T143211Z
LAST-MODIFIED:20251117T173035Z
UID:10003615-1763893800-1763897400@iffybooks.net
SUMMARY:🐍 Python Install Session
DESCRIPTION:If you haven’t already installed Python on your computer\, join us for an installation session!
URL:https://iffybooks.net/event/python-install-session/2025-11-23/
LOCATION:Iffy Books\, 404 S. 20th St.\, Philadelphia\, 19146\, United States
ATTACH;FMTTYPE=image/png:https://iffybooks.net/wp-content/uploads/2025/10/Python_logo_01.svg_.png
ORGANIZER;CN="Iffy Books":MAILTO:iffybooks@iffybooks.net
END:VEVENT
BEGIN:VEVENT
DTSTART;TZID=America/New_York:20251123T113000
DTEND;TZID=America/New_York:20251123T123000
DTSTAMP:20260422T000744
CREATED:20251105T222125Z
LAST-MODIFIED:20251105T222147Z
UID:10003613-1763897400-1763901000@iffybooks.net
SUMMARY:🐍 Python Script-Along: Download Podcasts to an MP3 Player
DESCRIPTION:One of the reasons it’s hard to leave home without a cell phone is that it’s nice to listen to podcasts while you’re walking around. In this workshop you’ll learn to write a Python script that downloads the latest episodes of your favorite shows to an MP3 player (or a folder on your desktop if you prefer). \nIf you’re able to install Python 3 and the beautifulsoup4 package ahead of time\, you can show up at 11:30 a.m. Otherwise you should join us at 10:30 a.m. for an hour-long Python installation session. No additional registration required! \nBring a laptop (any OS) and an MP3 player or USB drive if you have one. We’ll have MP3 players and microSD cards for sale but they aren’t required to complete the project. \nRegister\nRegistration for this event is now closed. Sorry. \nHere's a link to future workshops in this series!
URL:https://iffybooks.net/event/python-mp3-player-nov-23/
LOCATION:Iffy Books\, 404 S. 20th St.\, Philadelphia\, 19146\, United States
ATTACH;FMTTYPE=image/png:https://iffybooks.net/wp-content/uploads/2025/10/Python_Script_Along_MP3.png
ORGANIZER;CN="Iffy Books":MAILTO:iffybooks@iffybooks.net
END:VEVENT
END:VCALENDAR