BEGIN:VCALENDAR
VERSION:2.0
PRODID:-//Iffy Books  |  404 S. 20th St., PHL - ECPv6.15.20//NONSGML v1.0//EN
CALSCALE:GREGORIAN
METHOD:PUBLISH
X-ORIGINAL-URL:https://iffybooks.net
X-WR-CALDESC:Events for Iffy Books  |  404 S. 20th St., PHL
REFRESH-INTERVAL;VALUE=DURATION:PT1H
X-Robots-Tag:noindex
X-PUBLISHED-TTL:PT1H
BEGIN:VTIMEZONE
TZID:America/New_York
BEGIN:DAYLIGHT
TZOFFSETFROM:-0500
TZOFFSETTO:-0400
TZNAME:EDT
DTSTART:20240310T070000
END:DAYLIGHT
BEGIN:STANDARD
TZOFFSETFROM:-0400
TZOFFSETTO:-0500
TZNAME:EST
DTSTART:20241103T060000
END:STANDARD
BEGIN:DAYLIGHT
TZOFFSETFROM:-0500
TZOFFSETTO:-0400
TZNAME:EDT
DTSTART:20250309T070000
END:DAYLIGHT
BEGIN:STANDARD
TZOFFSETFROM:-0400
TZOFFSETTO:-0500
TZNAME:EST
DTSTART:20251102T060000
END:STANDARD
BEGIN:DAYLIGHT
TZOFFSETFROM:-0500
TZOFFSETTO:-0400
TZNAME:EDT
DTSTART:20260308T070000
END:DAYLIGHT
BEGIN:STANDARD
TZOFFSETFROM:-0400
TZOFFSETTO:-0500
TZNAME:EST
DTSTART:20261101T060000
END:STANDARD
END:VTIMEZONE
BEGIN:VEVENT
DTSTART;TZID=America/New_York:20250924T190000
DTEND;TZID=America/New_York:20250924T203000
DTSTAMP:20260422T024103
CREATED:20250824T160411Z
LAST-MODIFIED:20250906T182204Z
UID:10002520-1758740400-1758745800@iffybooks.net
SUMMARY:🪐 Speculative Futures Reading Group: 'Hum' by Helen Phillips
DESCRIPTION:The Speculative Futures Reading Group meets on the last Wednesday of every month at 7 p.m.! \n🎧 Get the audiobook on Libro.fm \n\n\n\n\nIn a city addled by climate change and populated by intelligent robots called ‘hums\,’ May loses her job to artificial intelligence. In a desperate bid to resolve her family’s debt and secure their future for another few months\, she becomes a guinea pig in an experiment that alters her face so it cannot be recognized by surveillance cams. \nSeeking some reprieve from her recent hardships and from her family’s addiction to their devices\, she splurges on passes that allow them three nights’ respite inside the Botanical Garden: a rare green refuge where forests\, streams\, and animals flourish. But her insistence that her son\, daughter\, and husband leave their devices at home proves far more fraught than she anticipated\, and the lush beauty of the Botanical Garden is not the balm she hoped it would be. When her children come under threat\, May is forced to put her trust in a hum of uncertain motives as she works to restore the life of her family.  \nHum is a work of speculative fiction that unflinchingly explores marriage\, motherhood\, and selfhood in a world compromised by global warming and dizzying technological advancement\, a world of both dystopian and utopian possibilities. 
URL:https://iffybooks.net/event/speculative-futures-sept-24/
LOCATION:Iffy Books\, 404 S. 20th St.\, Philadelphia\, 19146\, United States
ATTACH;FMTTYPE=image/jpeg:https://iffybooks.net/wp-content/uploads/2025/04/Hum.jpg
END:VEVENT
END:VCALENDAR