BEGIN:VCALENDAR
VERSION:2.0
PRODID:-//Iffy Books  |  404 S. 20th St., PHL - ECPv6.15.20//NONSGML v1.0//EN
CALSCALE:GREGORIAN
METHOD:PUBLISH
X-ORIGINAL-URL:https://iffybooks.net
X-WR-CALDESC:Events for Iffy Books  |  404 S. 20th St., PHL
REFRESH-INTERVAL;VALUE=DURATION:PT1H
X-Robots-Tag:noindex
X-PUBLISHED-TTL:PT1H
BEGIN:VTIMEZONE
TZID:America/New_York
BEGIN:DAYLIGHT
TZOFFSETFROM:-0500
TZOFFSETTO:-0400
TZNAME:EDT
DTSTART:20240310T070000
END:DAYLIGHT
BEGIN:STANDARD
TZOFFSETFROM:-0400
TZOFFSETTO:-0500
TZNAME:EST
DTSTART:20241103T060000
END:STANDARD
BEGIN:DAYLIGHT
TZOFFSETFROM:-0500
TZOFFSETTO:-0400
TZNAME:EDT
DTSTART:20250309T070000
END:DAYLIGHT
BEGIN:STANDARD
TZOFFSETFROM:-0400
TZOFFSETTO:-0500
TZNAME:EST
DTSTART:20251102T060000
END:STANDARD
BEGIN:DAYLIGHT
TZOFFSETFROM:-0500
TZOFFSETTO:-0400
TZNAME:EDT
DTSTART:20260308T070000
END:DAYLIGHT
BEGIN:STANDARD
TZOFFSETFROM:-0400
TZOFFSETTO:-0500
TZNAME:EST
DTSTART:20261101T060000
END:STANDARD
END:VTIMEZONE
BEGIN:VEVENT
DTSTART;TZID=America/New_York:20250917T190000
DTEND;TZID=America/New_York:20250917T203000
DTSTAMP:20260422T024002
CREATED:20250809T200103Z
LAST-MODIFIED:20250906T181916Z
UID:10002542-1758135600-1758141000@iffybooks.net
SUMMARY:👁️ Intelligence History Reading Group: 'The Mission: The CIA in the 21st Century' by Tim Weiner (2nd half)
DESCRIPTION:Join us Wednesday\, September 17th at 7 p.m. for a discussion on the second half of The Mission: The CIA in the 21st Century by Tim Weiner (2025). \n🎧 Get the audiobook on Libro.fm \nAt the turn of the century\, the Central Intelligence Agency was in crisis. The end of the Cold War had robbed the agency of its mission. More than thirty overseas stations and bases had been shuttered\, and scores that remained had been severely cut back. Many countries where surveillance was once deemed crucial went uncovered. Essential intelligence wasn’t being collected. At the dawn of the information age\, the CIA’s officers and analysts worked with outmoded technology\, struggling to distinguish the clear signals of significant facts from the cacophony of background noise. \nThen came September 11th\, 2001. After the attacks\, the CIA transformed itself into a lethal paramilitary force\, running secret prisons and brutal interrogations\, mounting deadly drone attacks\, and all but abandoning its core missions of espionage and counterespionage. The consequences were grave: the deaths of scores of its recruited foreign agents\, the theft of its personnel files by Chinese spies\, the penetration of its computer networks by Russian intelligence and American hackers\, and the tragedies of Afghanistan and Iraq. A new generation of spies now must fight the hardest targets—Moscow\, Beijing\, Tehran—while confronting a president who has attacked the CIA as a subversive force.  \nFrom Pulitzer Prize winner Tim Weiner\, The Mission tells the gripping\, high-stakes story of the CIA through the first quarter of the twenty-first century\, revealing how the agency fought to rebuild the espionage powers it lost during the war on terror—and finally succeeded in penetrating the Kremlin. The struggle has life-and-death consequences for America and its allies. The CIA must reclaim its original mission: know thy enemies. The fate of the free world hangs in the balance.  \nA masterpiece of reporting\, The Mission includes exclusive on-the-record interviews with six former CIA directors\, the top spymaster\, thirteen station chiefs\, and scores of top operations officers who served undercover for decades and have never spoken to a journalist before.  
URL:https://iffybooks.net/event/intelligence-history-sept-17/
LOCATION:Iffy Books\, 404 S. 20th St.\, Philadelphia\, 19146\, United States
ATTACH;FMTTYPE=image/jpeg:https://iffybooks.net/wp-content/uploads/2025/05/The_Mission.jpg
ORGANIZER;CN="Iffy Books":MAILTO:iffybooks@iffybooks.net
END:VEVENT
END:VCALENDAR