BEGIN:VCALENDAR
VERSION:2.0
PRODID:-//Iffy Books  |  404 S. 20th St., PHL - ECPv6.15.20//NONSGML v1.0//EN
CALSCALE:GREGORIAN
METHOD:PUBLISH
X-WR-CALNAME:Iffy Books  |  404 S. 20th St., PHL
X-ORIGINAL-URL:https://iffybooks.net
X-WR-CALDESC:Events for Iffy Books  |  404 S. 20th St., PHL
REFRESH-INTERVAL;VALUE=DURATION:PT1H
X-Robots-Tag:noindex
X-PUBLISHED-TTL:PT1H
BEGIN:VTIMEZONE
TZID:America/New_York
BEGIN:DAYLIGHT
TZOFFSETFROM:-0500
TZOFFSETTO:-0400
TZNAME:EDT
DTSTART:20240310T070000
END:DAYLIGHT
BEGIN:STANDARD
TZOFFSETFROM:-0400
TZOFFSETTO:-0500
TZNAME:EST
DTSTART:20241103T060000
END:STANDARD
BEGIN:DAYLIGHT
TZOFFSETFROM:-0500
TZOFFSETTO:-0400
TZNAME:EDT
DTSTART:20250309T070000
END:DAYLIGHT
BEGIN:STANDARD
TZOFFSETFROM:-0400
TZOFFSETTO:-0500
TZNAME:EST
DTSTART:20251102T060000
END:STANDARD
BEGIN:DAYLIGHT
TZOFFSETFROM:-0500
TZOFFSETTO:-0400
TZNAME:EDT
DTSTART:20260308T070000
END:DAYLIGHT
BEGIN:STANDARD
TZOFFSETFROM:-0400
TZOFFSETTO:-0500
TZNAME:EST
DTSTART:20261101T060000
END:STANDARD
END:VTIMEZONE
BEGIN:VEVENT
DTSTART;TZID=America/New_York:20250814T143000
DTEND;TZID=America/New_York:20250814T163000
DTSTAMP:20260422T051909
CREATED:20250806T205515Z
LAST-MODIFIED:20250806T205557Z
UID:10003384-1755181800-1755189000@iffybooks.net
SUMMARY:🎲 Pico Game Timer & Dice Workshop
DESCRIPTION:11Learn to make a programmable game timer and dice with a Pi Pico microcontroller! First you’ll solder six LEDs\, two switches\, and a vibration motor to the board’s GPIO pins. Then you’ll install and customize the CircuitPython code that makes it work. No experience needed! \nYou’ll need to buy a kit for $9 to complete this project. Here’s what’s included: \n• RP2040/Pi Pico Board\n• 6 LED lights\n• vibration motor\n• 2 push button switches\n• 4 screws\n• 4 spacers\n• wood base \nRegister:\ncoming soon! \n 
URL:https://iffybooks.net/event/game-timer-fall-25/
LOCATION:Iffy Books\, 404 S. 20th St.\, Philadelphia\, 19146\, United States
ATTACH;FMTTYPE=image/png:https://iffybooks.net/wp-content/uploads/2025/05/Pico_Game_Timer_and_Die_Kit_Circuit_Diagram_sm.png
ORGANIZER;CN="Iffy Books":MAILTO:iffybooks@iffybooks.net
END:VEVENT
END:VCALENDAR