BEGIN:VCALENDAR
VERSION:2.0
PRODID:-//Iffy Books  |  404 S. 20th St., PHL - ECPv6.15.20//NONSGML v1.0//EN
CALSCALE:GREGORIAN
METHOD:PUBLISH
X-WR-CALNAME:Iffy Books  |  404 S. 20th St., PHL
X-ORIGINAL-URL:https://iffybooks.net
X-WR-CALDESC:Events for Iffy Books  |  404 S. 20th St., PHL
REFRESH-INTERVAL;VALUE=DURATION:PT1H
X-Robots-Tag:noindex
X-PUBLISHED-TTL:PT1H
BEGIN:VTIMEZONE
TZID:America/New_York
BEGIN:DAYLIGHT
TZOFFSETFROM:-0500
TZOFFSETTO:-0400
TZNAME:EDT
DTSTART:20240310T070000
END:DAYLIGHT
BEGIN:STANDARD
TZOFFSETFROM:-0400
TZOFFSETTO:-0500
TZNAME:EST
DTSTART:20241103T060000
END:STANDARD
BEGIN:DAYLIGHT
TZOFFSETFROM:-0500
TZOFFSETTO:-0400
TZNAME:EDT
DTSTART:20250309T070000
END:DAYLIGHT
BEGIN:STANDARD
TZOFFSETFROM:-0400
TZOFFSETTO:-0500
TZNAME:EST
DTSTART:20251102T060000
END:STANDARD
BEGIN:DAYLIGHT
TZOFFSETFROM:-0500
TZOFFSETTO:-0400
TZNAME:EDT
DTSTART:20260308T070000
END:DAYLIGHT
BEGIN:STANDARD
TZOFFSETFROM:-0400
TZOFFSETTO:-0500
TZNAME:EST
DTSTART:20261101T060000
END:STANDARD
END:VTIMEZONE
BEGIN:VEVENT
DTSTART;TZID=America/New_York:20250727T110000
DTEND;TZID=America/New_York:20250727T170000
DTSTAMP:20260422T045742
CREATED:20250720T152408Z
LAST-MODIFIED:20250720T152408Z
UID:10003348-1753614000-1753635600@iffybooks.net
SUMMARY:🌞📚 Big Summer Book Sale at Icebox Project Space
DESCRIPTION:See y’all at Icebox Project Space (1400 N American St.) for the Big Summer Book Sale 2025! We’ll be there all day\, from 11 a.m. to 5 p.m. Thanks to Ulises Books and FORTUNE for putting it all together!
URL:https://iffybooks.net/event/bsbs-2025/
LOCATION:Icebox Project Space at Crane Arts\, 1400 N American St.\, Philadelphia\, PA\, 19122\, United States
ATTACH;FMTTYPE=image/png:https://iffybooks.net/wp-content/uploads/2025/07/BSBS_2025.png
ORGANIZER;CN="Iffy Books":MAILTO:iffybooks@iffybooks.net
END:VEVENT
END:VCALENDAR