BEGIN:VCALENDAR
VERSION:2.0
PRODID:-//Iffy Books  |  404 S. 20th St., PHL - ECPv6.15.20//NONSGML v1.0//EN
CALSCALE:GREGORIAN
METHOD:PUBLISH
X-WR-CALNAME:Iffy Books  |  404 S. 20th St., PHL
X-ORIGINAL-URL:https://iffybooks.net
X-WR-CALDESC:Events for Iffy Books  |  404 S. 20th St., PHL
REFRESH-INTERVAL;VALUE=DURATION:PT1H
X-Robots-Tag:noindex
X-PUBLISHED-TTL:PT1H
BEGIN:VTIMEZONE
TZID:America/New_York
BEGIN:DAYLIGHT
TZOFFSETFROM:-0500
TZOFFSETTO:-0400
TZNAME:EDT
DTSTART:20240310T070000
END:DAYLIGHT
BEGIN:STANDARD
TZOFFSETFROM:-0400
TZOFFSETTO:-0500
TZNAME:EST
DTSTART:20241103T060000
END:STANDARD
BEGIN:DAYLIGHT
TZOFFSETFROM:-0500
TZOFFSETTO:-0400
TZNAME:EDT
DTSTART:20250309T070000
END:DAYLIGHT
BEGIN:STANDARD
TZOFFSETFROM:-0400
TZOFFSETTO:-0500
TZNAME:EST
DTSTART:20251102T060000
END:STANDARD
BEGIN:DAYLIGHT
TZOFFSETFROM:-0500
TZOFFSETTO:-0400
TZNAME:EDT
DTSTART:20260308T070000
END:DAYLIGHT
BEGIN:STANDARD
TZOFFSETFROM:-0400
TZOFFSETTO:-0500
TZNAME:EST
DTSTART:20261101T060000
END:STANDARD
END:VTIMEZONE
BEGIN:VEVENT
DTSTART;TZID=America/New_York:20250212T120000
DTEND;TZID=America/New_York:20250212T133000
DTSTAMP:20260419T120614
CREATED:20250131T145915Z
LAST-MODIFIED:20250208T043758Z
UID:10002011-1739361600-1739367000@iffybooks.net
SUMMARY:🎵 Cassette Mixtape Session
DESCRIPTION:Bring a playlist on your phone/computer and we’ll help you record it to an audio cassette tape! We have plenty of cassettes to share. \nWe’re suggesting a $5–$15 donation for this project. Thanks! \nRegister:\nRegistration for this event is now closed. We'll offer it again soon!
URL:https://iffybooks.net/event/cassette-session-feb-12/
LOCATION:Iffy Books\, 404 S. 20th St.\, Philadelphia\, 19146\, United States
ATTACH;FMTTYPE=image/png:https://iffybooks.net/wp-content/uploads/2025/01/Cassette_Mixtape_Session.png
ORGANIZER;CN="Iffy Books":MAILTO:iffybooks@iffybooks.net
END:VEVENT
BEGIN:VEVENT
DTSTART;TZID=America/New_York:20250212T140000
DTEND;TZID=America/New_York:20250212T153000
DTSTAMP:20260419T120614
CREATED:20250122T204947Z
LAST-MODIFIED:20250208T123141Z
UID:10002066-1739368800-1739374200@iffybooks.net
SUMMARY:❤️ Soldering Practice: LED Heart Board
DESCRIPTION:Come out and get some soldering practice! This time we’re making a heart-shaped board with 22 LEDs\, using an oscillator circuit to dim and brighten them at the speed you choose. \nThis project is ideal for folks who have soldered at least once before. Beginners are welcome to join us\, but it may take you more than one session to finish. Working with a friend is encouraged! \nThe kit you’ll need to complete this project costs $5.50. We’re suggesting a $10–$25 donation for the class\, no one turned away for lack of funds. \nRegister:\nRegistration for this event is now closed. We'll offer it again soon!
URL:https://iffybooks.net/event/led-heart-feb-12/
LOCATION:Iffy Books\, 404 S. 20th St.\, Philadelphia\, 19146\, United States
ATTACH;FMTTYPE=image/gif:https://iffybooks.net/wp-content/uploads/2025/01/Heart_LED_Kit-1.gif
ORGANIZER;CN="Iffy Books":MAILTO:iffybooks@iffybooks.net
END:VEVENT
BEGIN:VEVENT
DTSTART;TZID=America/New_York:20250212T183000
DTEND;TZID=America/New_York:20250212T203000
DTSTAMP:20260419T120614
CREATED:20241115T183013Z
LAST-MODIFIED:20241205T001713Z
UID:10001448-1739385000-1739392200@iffybooks.net
SUMMARY:⚙️ Neo-Luddite Reading Group: 'The Age of Surveillance Capitalism' by Shoshana Zuboff
DESCRIPTION:Our next book for the Neo-Luddite Reading Group is The Age of Surveillance Capitalism by Shoshana Zuboff (2019). \n➡️ Virtual Meetup Link\nDiscord: Email neoluddite@victorgom.es for an invite! \nFull schedule: victorgom.es/neoluddite \nIf you’re joining for the first time\, I’d suggest you read this before anything else for brief context: What the Luddites Really Fought Against by Richard Conniff.The only expectation is that you read the chapter(s) of the book that’s listed for that meeting. You’re still welcome to participate if you haven’t done the readings as long as you are mindful. For each chapter\, I’ve also noted some optional readings for context\, so I’d suggest checking those out rather than reading ahead in the book. And remember\, if you ever find yourself struggling with any of the readings or concepts\, reach out! Either directly to me over email or to the entire group over discord. \n\n\n\nMeeting 1 (Dec. 11th):📖 Introduction & Part One: The Foundations of Surveillance Capitalism\n\n1. Home or exile in the digital future\n\nGemini intelligence is coming to Google Home by Jennifer Pattison Tuohy\n\n\n2. August 9\, 2011: Setting the Stage for Surveillance Capitalism\n\n🗞️ Artificial intelligence is going to supercharge surveillance by James Vincent\n\n\n\n\n\n\n\n\n3. The Discovery of Behavioral Surplus\n\n\n\n\n\n\n🗞️ Everyone should decide how their digital data are used – not just tech companies by Jathan Sadowski\, Salomé Viljoen\, Meredith Whittaker\n\n\n4. The Moat Around the Castle\n\nGoogle “We Have No Moat\, And Neither Does OpenAI” by Dylan Patel and Afzal Ahmad\n\n\n5. The Elaboration of Surveillance Capitalism: Kidnap\, Corner\, Compete\n\n🗞️ Do platforms work? by George Zarkadakis\n\n\n6. Hijacked: The Division of Learning in Society\n\n🗞️ Writing and Learning to Write in the Age of AI by Jane Rosenzweig\n\n\n\n\nMeeting 2 (Jan. 8th):📖 Part II: The Advance of Surveillance Capitalism\n\n7. The Reality Business\n\nTBA\n\n\n8. Rendition: From Experience to Data\n\n📜 Will we run out of data? An analysis of the limits of scaling datasets in Machine Learning by Pablo Villalobos\, Jaime Sevilla\, Lennart Heim\, Tamay Besiroglu\, Marius Hobbhahn\, & Anson Ho\n\n\n9. Rendition from the Depths.\n\nTBA\n\n\n10. Make Them Dance\n\nTBA\n\n\n11. The Right to the Future Tense\n\n🎥 On Bureaucratic Technologies and the Future as Dream-Time by David Graeber\n\n\n\n\nMeeting 3 (Feb. 12th):📖 Part III: Instrumentarian Power for a Third Modernity & Conclusion\n\n12. Two Species of Power\n\nTBA\n\n\n13. Big Other and the Rise of Instrumentarian Power\n\nTBA\n\n\n14. A Utopia of Certainty\n\nTBA\n\n\n15. The Instrumentarian Collective\n\n🎥 The Case Against B.F. Skinner by Noam Chomsky\n\n\n16. Of Life in the Hive\n\n🎥 Can’t Get You Out of My Head E1 by Adam Curtis\n\n\n17. The Right to Sanctuary\n\nTBA\n\n\n18. A Coup from Above”\n\n🎵 Spain by W.H. Auden\n\n\n\n\n\n\n\nAdditional resources\n\nOutreach Resources & Guides\n\n📜 Digital Defense Playbook: Community Power Tools for Reclaiming Data by Our Data Bodies\n📜 A People’s Guide to AI by Mimi Onuoha and Mother Cyborg (Diana Nucera)\n📜 Algorithmic Accountability: A Primer by Data & Society\n🗞️ Prior to (or instead of) using ChatGPT with your students by Autumn Caines\n\n\nPotential Future Reads\n\n📖 Automating Inequality: How High-Tech Tools Profile\, Police\, and Punish the Poor by Virginia Eubanks\n📖 Questioning Technology: Tool\, Toy or Tyrant by John Zerzan & Alice Carnes\n📖 Technofix: Why Technology Won’t Save Us or the Environment by Michael Huesemann & Joyce Huesemann\n📖 Fight Like Hell: The Untold History of American Labor by Kim Kelly\n📖 The Internet Con: How to Seize the Means of Computation by Cory Doctorow\n\n\nLinks to more links\n\n📋 Critical Lenses on AI by Iris van Rooij\n📋 Resources by Ruha Benjamin\n\n\nMore on Luddites\n\n🗞️ I’m a Luddite. You should be one too by Jathan Sadowski\n🗞️ Byron Was One of the Few Prominent Defenders of the Luddites by Kat Eschner\n\n\nPoems\n\n🎵 A Luddite Lullaby by Don Bogen\n🎵 All Watched Over by Machines of Loving Grace by Richard Brautigan\n🎵 I Am the People\, the Mob by Carl Sandburg\n🎵 They Say This Isn’t a Poem by Kenneth Rexroth\n🎵 Under Which Lyre by W.H. Auden\n🎵 When I Heard The Learn’d Astronomer by Walt Whitman
URL:https://iffybooks.net/event/neo-luddite-zuboff/2025-02-12/
LOCATION:Iffy Books\, 404 S. 20th St.\, Philadelphia\, 19146\, United States
ATTACH;FMTTYPE=image/png:https://iffybooks.net/wp-content/uploads/2024/11/Neo-Luddite_Zuboff_Flyer_web.png
ORGANIZER;CN="Iffy Books":MAILTO:iffybooks@iffybooks.net
END:VEVENT
END:VCALENDAR